BEGIN:VCALENDAR
VERSION:2.0
PRODID:-//College of Engineering Vadakara - ECPv5.1.4//NONSGML v1.0//EN
CALSCALE:GREGORIAN
METHOD:PUBLISH
X-WR-CALNAME:College of Engineering Vadakara
X-ORIGINAL-URL:https://www.cev.ac.in/en
X-WR-CALDESC:Events for College of Engineering Vadakara
BEGIN:VTIMEZONE
TZID:Asia/Kolkata
BEGIN:STANDARD
TZOFFSETFROM:+0530
TZOFFSETTO:+0530
TZNAME:IST
DTSTART:20220101T000000
END:STANDARD
END:VTIMEZONE
BEGIN:VEVENT
DTSTART;TZID=Asia/Kolkata:20220627T140000
DTEND;TZID=Asia/Kolkata:20220627T160000
DTSTAMP:20260424T180445
CREATED:20220626T043139Z
LAST-MODIFIED:20220626T044352Z
UID:5654-1656338400-1656345600@www.cev.ac.in
SUMMARY:'Merit Day 2022'
DESCRIPTION: \n
URL:https://www.cev.ac.in/en/event/merit-day-2022/
LOCATION:College of Engineering Vadakara\, College of Engineering Vadakara\, Vatakara\, Kerala\, India
CATEGORIES:events
ATTACH;FMTTYPE=image/jpeg:https://www.cev.ac.in/en/wp-content/uploads/2022/06/IMG-20220623-WA0018.jpg
END:VEVENT
END:VCALENDAR