BEGIN:VCALENDAR
VERSION:2.0
PRODID:-//College of Engineering Vadakara - ECPv5.1.4//NONSGML v1.0//EN
CALSCALE:GREGORIAN
METHOD:PUBLISH
X-WR-CALNAME:College of Engineering Vadakara
X-ORIGINAL-URL:https://www.cev.ac.in/en
X-WR-CALDESC:Events for College of Engineering Vadakara
BEGIN:VTIMEZONE
TZID:Asia/Kolkata
BEGIN:STANDARD
TZOFFSETFROM:+0530
TZOFFSETTO:+0530
TZNAME:IST
DTSTART:20200101T000000
END:STANDARD
END:VTIMEZONE
BEGIN:VEVENT
DTSTART;TZID=Asia/Kolkata:20200623T090000
DTEND;TZID=Asia/Kolkata:20200623T103000
DTSTAMP:20260424T132138
CREATED:20200623T171536Z
LAST-MODIFIED:20200623T171536Z
UID:3367-1592902800-1592908200@www.cev.ac.in
SUMMARY:KEAM-2020 E LEARNING PORTAL INAUGURATION
DESCRIPTION: \n
URL:https://www.cev.ac.in/en/event/keam-2020-e-learning-portal-inauguration/
ATTACH;FMTTYPE=image/jpeg:https://www.cev.ac.in/en/wp-content/uploads/2020/06/Inauguration-Poster.jpg
END:VEVENT
END:VCALENDAR