BEGIN:VCALENDAR
VERSION:2.0
PRODID:-//College of Engineering Vadakara - ECPv5.1.4//NONSGML v1.0//EN
CALSCALE:GREGORIAN
METHOD:PUBLISH
X-WR-CALNAME:College of Engineering Vadakara
X-ORIGINAL-URL:https://www.cev.ac.in/en
X-WR-CALDESC:Events for College of Engineering Vadakara
BEGIN:VTIMEZONE
TZID:Asia/Kolkata
BEGIN:STANDARD
TZOFFSETFROM:+0530
TZOFFSETTO:+0530
TZNAME:IST
DTSTART:20220101T000000
END:STANDARD
END:VTIMEZONE
BEGIN:VEVENT
DTSTART;TZID=Asia/Kolkata:20220529T090000
DTEND;TZID=Asia/Kolkata:20220529T160000
DTSTAMP:20260424T162457
CREATED:20220528T115437Z
LAST-MODIFIED:20220528T120448Z
UID:5479-1653814800-1653840000@www.cev.ac.in
SUMMARY:IEEE Education Society - Hybrid Introductory Training on Embedded Systems (HITES)
DESCRIPTION: \n
URL:https://www.cev.ac.in/en/event/ieee-education-society-hybrid-introductory-training-on-embedded-systems-hites/
LOCATION:College of Engineering Vadakara\, College of Engineering Vadakara\, Vatakara\, Kerala\, India
CATEGORIES:events
END:VEVENT
END:VCALENDAR