BEGIN:VCALENDAR
VERSION:2.0
PRODID:-//College of Engineering Vadakara - ECPv5.1.4//NONSGML v1.0//EN
CALSCALE:GREGORIAN
METHOD:PUBLISH
X-WR-CALNAME:College of Engineering Vadakara
X-ORIGINAL-URL:https://www.cev.ac.in/en
X-WR-CALDESC:Events for College of Engineering Vadakara
BEGIN:VTIMEZONE
TZID:Asia/Kolkata
BEGIN:STANDARD
TZOFFSETFROM:+0530
TZOFFSETTO:+0530
TZNAME:IST
DTSTART:20220101T000000
END:STANDARD
END:VTIMEZONE
BEGIN:VEVENT
DTSTART;TZID=Asia/Kolkata:20220428T140000
DTEND;TZID=Asia/Kolkata:20220428T153000
DTSTAMP:20260424T132444
CREATED:20220427T154735Z
LAST-MODIFIED:20220528T120717Z
UID:5451-1651154400-1651159800@www.cev.ac.in
SUMMARY:e Yantra Robotics Lab Inauguration
DESCRIPTION: \n
URL:https://www.cev.ac.in/en/event/e-yantra-robotics-lab-inauguration/
LOCATION:College of Engineering Vadakara\, College of Engineering Vadakara\, Vatakara\, Kerala\, India
CATEGORIES:events
ATTACH;FMTTYPE=image/jpeg:https://www.cev.ac.in/en/wp-content/uploads/2022/04/1651074100991.jpg
END:VEVENT
END:VCALENDAR