BEGIN:VCALENDAR
VERSION:2.0
PRODID:-//College of Engineering Vadakara - ECPv5.1.4//NONSGML v1.0//EN
CALSCALE:GREGORIAN
METHOD:PUBLISH
X-WR-CALNAME:College of Engineering Vadakara
X-ORIGINAL-URL:https://www.cev.ac.in/en
X-WR-CALDESC:Events for College of Engineering Vadakara
BEGIN:VTIMEZONE
TZID:Asia/Kolkata
BEGIN:STANDARD
TZOFFSETFROM:+0530
TZOFFSETTO:+0530
TZNAME:IST
DTSTART:20240101T000000
END:STANDARD
END:VTIMEZONE
BEGIN:VEVENT
DTSTART;TZID=Asia/Kolkata:20240307T065300
DTEND;TZID=Asia/Kolkata:20240307T065300
DTSTAMP:20260424T223705
CREATED:20240307T065347Z
LAST-MODIFIED:20240307T065934Z
UID:6824-1709794380-1709794380@www.cev.ac.in
SUMMARY:3 DAY WORKSHOP ON POWER ELECTRONIC PRODUCT DEVELOPMNET
DESCRIPTION: \n
URL:https://www.cev.ac.in/en/event/3-day-workshop-on-power-electronic-product-developmnet/
END:VEVENT
END:VCALENDAR